BEGIN:VCALENDAR
VERSION:2.0
PRODID:-//The Crate Bosham - ECPv6.15.20//NONSGML v1.0//EN
CALSCALE:GREGORIAN
METHOD:PUBLISH
X-ORIGINAL-URL:https://thecratebosham.co.uk
X-WR-CALDESC:Events for The Crate Bosham
REFRESH-INTERVAL;VALUE=DURATION:PT1H
X-Robots-Tag:noindex
X-PUBLISHED-TTL:PT1H
BEGIN:VTIMEZONE
TZID:Europe/London
BEGIN:DAYLIGHT
TZOFFSETFROM:+0000
TZOFFSETTO:+0100
TZNAME:BST
DTSTART:20240331T010000
END:DAYLIGHT
BEGIN:STANDARD
TZOFFSETFROM:+0100
TZOFFSETTO:+0000
TZNAME:GMT
DTSTART:20241027T010000
END:STANDARD
BEGIN:DAYLIGHT
TZOFFSETFROM:+0000
TZOFFSETTO:+0100
TZNAME:BST
DTSTART:20250330T010000
END:DAYLIGHT
BEGIN:STANDARD
TZOFFSETFROM:+0100
TZOFFSETTO:+0000
TZNAME:GMT
DTSTART:20251026T010000
END:STANDARD
BEGIN:DAYLIGHT
TZOFFSETFROM:+0000
TZOFFSETTO:+0100
TZNAME:BST
DTSTART:20260329T010000
END:DAYLIGHT
BEGIN:STANDARD
TZOFFSETFROM:+0100
TZOFFSETTO:+0000
TZNAME:GMT
DTSTART:20261025T010000
END:STANDARD
END:VTIMEZONE
BEGIN:VEVENT
DTSTART;TZID=Europe/London:20251206T180000
DTEND;TZID=Europe/London:20251206T200000
DTSTAMP:20260421T100745
CREATED:20251029T160510Z
LAST-MODIFIED:20251029T160510Z
UID:1381-1765044000-1765051200@thecratebosham.co.uk
SUMMARY:Fat Jack's BBQ Shack
DESCRIPTION:American smoked BBQ style food. \n@fatjacksshack
URL:https://thecratebosham.co.uk/whats-on/fat-jacks-bbq-shack-14/
CATEGORIES:Evening Food,Events,Ticketed Event
ATTACH;FMTTYPE=image/png:https://thecratebosham.co.uk/wp-content/uploads/2025/07/Fat-Jacks-IG-sq.png
END:VEVENT
BEGIN:VEVENT
DTSTART;TZID=Europe/London:20251206T190000
DTEND;TZID=Europe/London:20251206T213000
DTSTAMP:20260421T100745
CREATED:20251106T135042Z
LAST-MODIFIED:20251106T135042Z
UID:1392-1765047600-1765056600@thecratebosham.co.uk
SUMMARY:BINGO NIGHT! Book online
DESCRIPTION:🌍 The Crate Bosham \n📆 Saturday 6 December \n⏰ 7 – 9pm \nAn evening of luck and laughter 🍀 \n💸 Your chance to win cash prizes – the pot is split between winners. \n  \n£5 per card CASH ONLY on the night for your cards. \nTwo rounds are played. Two cards maximum per person per round. \n  \nBook your table for 50p per person. Tables are reserved from 6pm. \n🐕 Family and dog friendly. \n  \n🍹Happy Hour 5.30 – 6.30pm. 2for1 spirits / 4for3 beers and ciders \n🍖 Fat Jack’s BBQ Shack 6 – 8pm.
URL:https://thecratebosham.co.uk/whats-on/bingo-night-book-online-2/
CATEGORIES:Evening Food,Events,Ticketed Event
ATTACH;FMTTYPE=image/png:https://thecratebosham.co.uk/wp-content/uploads/2025/01/Bingo-Bos-thumbnail.png
END:VEVENT
END:VCALENDAR