BEGIN:VCALENDAR
VERSION:2.0
PRODID:-//The Crate Bosham - ECPv6.15.20//NONSGML v1.0//EN
CALSCALE:GREGORIAN
METHOD:PUBLISH
X-ORIGINAL-URL:https://thecratebosham.co.uk
X-WR-CALDESC:Events for The Crate Bosham
REFRESH-INTERVAL;VALUE=DURATION:PT1H
X-Robots-Tag:noindex
X-PUBLISHED-TTL:PT1H
BEGIN:VTIMEZONE
TZID:Europe/London
BEGIN:DAYLIGHT
TZOFFSETFROM:+0000
TZOFFSETTO:+0100
TZNAME:BST
DTSTART:20240331T010000
END:DAYLIGHT
BEGIN:STANDARD
TZOFFSETFROM:+0100
TZOFFSETTO:+0000
TZNAME:GMT
DTSTART:20241027T010000
END:STANDARD
BEGIN:DAYLIGHT
TZOFFSETFROM:+0000
TZOFFSETTO:+0100
TZNAME:BST
DTSTART:20250330T010000
END:DAYLIGHT
BEGIN:STANDARD
TZOFFSETFROM:+0100
TZOFFSETTO:+0000
TZNAME:GMT
DTSTART:20251026T010000
END:STANDARD
BEGIN:DAYLIGHT
TZOFFSETFROM:+0000
TZOFFSETTO:+0100
TZNAME:BST
DTSTART:20260329T010000
END:DAYLIGHT
BEGIN:STANDARD
TZOFFSETFROM:+0100
TZOFFSETTO:+0000
TZNAME:GMT
DTSTART:20261025T010000
END:STANDARD
END:VTIMEZONE
BEGIN:VEVENT
DTSTART;TZID=Europe/London:20251209T183000
DTEND;TZID=Europe/London:20251209T210000
DTSTAMP:20260421T101010
CREATED:20250925T185422Z
LAST-MODIFIED:20251029T134931Z
UID:1324-1765305000-1765314000@thecratebosham.co.uk
SUMMARY:🦌✨ WREATH WORKSHOP ✨🦌 - FULLY BOOKED
DESCRIPTION:📍 The Crate Bosham \n📆 Tuesday 9 December \n⏰ 6.30 – 9pm \nCome for the wreaths\, stay for the sparkle ✨ \nStep into the spirit of the season with Katie from Leaf Events Florist (@leafeventsflorist) for a joyful evening of Christmas wreath making. You’ll craft your own beautiful wreath to take home—perfect for your front door or holiday table. \nThis is more than a workshop—it’s a festive escape. A chance to slow down and make something beautiful with someone you love. Whether it’s a date night\, a catch-up with a friend\, or a treat for yourself\, this evening is all about warmth\, creativity\, and Christmas cheer. \n£55 per wreath (includes a glass of prosecco). Book now. \n  \n🦌 Crate Kitchen Festive Roast Dinner Bites 6-8pm \n\nGolden roast potatoes with rich gravy\nPigs in blankets\nHoney-roasted winter vegetables\n\n  \n🥂 Winter Drinks Specials including decadent boozy hot chocolates & milkshakes\, mulled wine and seasonal cocktails.
URL:https://thecratebosham.co.uk/whats-on/%f0%9f%a6%8c%e2%9c%a8-wreath-workshop-%e2%9c%a8%f0%9f%a6%8c/
CATEGORIES:Evening Food,Events,Ticketed Event
ATTACH;FMTTYPE=image/jpeg:https://thecratebosham.co.uk/wp-content/uploads/2025/09/Katie-wreaths.jpeg
END:VEVENT
END:VCALENDAR