BEGIN:VCALENDAR
VERSION:2.0
PRODID:-//The Crate Bosham - ECPv6.15.20//NONSGML v1.0//EN
CALSCALE:GREGORIAN
METHOD:PUBLISH
X-WR-CALNAME:The Crate Bosham
X-ORIGINAL-URL:https://thecratebosham.co.uk
X-WR-CALDESC:Events for The Crate Bosham
REFRESH-INTERVAL;VALUE=DURATION:PT1H
X-Robots-Tag:noindex
X-PUBLISHED-TTL:PT1H
BEGIN:VTIMEZONE
TZID:Europe/London
BEGIN:DAYLIGHT
TZOFFSETFROM:+0000
TZOFFSETTO:+0100
TZNAME:BST
DTSTART:20240331T010000
END:DAYLIGHT
BEGIN:STANDARD
TZOFFSETFROM:+0100
TZOFFSETTO:+0000
TZNAME:GMT
DTSTART:20241027T010000
END:STANDARD
BEGIN:DAYLIGHT
TZOFFSETFROM:+0000
TZOFFSETTO:+0100
TZNAME:BST
DTSTART:20250330T010000
END:DAYLIGHT
BEGIN:STANDARD
TZOFFSETFROM:+0100
TZOFFSETTO:+0000
TZNAME:GMT
DTSTART:20251026T010000
END:STANDARD
BEGIN:DAYLIGHT
TZOFFSETFROM:+0000
TZOFFSETTO:+0100
TZNAME:BST
DTSTART:20260329T010000
END:DAYLIGHT
BEGIN:STANDARD
TZOFFSETFROM:+0100
TZOFFSETTO:+0000
TZNAME:GMT
DTSTART:20261025T010000
END:STANDARD
END:VTIMEZONE
BEGIN:VEVENT
DTSTART;TZID=Europe/London:20251211T180000
DTEND;TZID=Europe/London:20251211T220000
DTSTAMP:20260421T113326
CREATED:20251111T141254Z
LAST-MODIFIED:20251111T141651Z
UID:1399-1765476000-1765490400@thecratebosham.co.uk
SUMMARY:🎄CHRISTMAS PARTY NIGHT 🎷with ROASTY SHARING PLATTERS - BOOKING ESSENTIAL
DESCRIPTION:📍 The Crate Bosham \n📆 Thursday 11 December \n⏰ from 6pm \nCelebrate the season in style with our cosy Christmas Party Night at The Crate\, Bosham! Gather your friends\, family\, colleagues — and yes\, even your dog — for an unforgettable evening of festive cheer. \n✨ Enjoy delicious roasty sharing platters served up in our warm\, welcoming space \n🎶 Groove to the sounds of a live Jazz/Ibiza-style saxophonist 🍷 Perfect for a work do\, a night out with mates\, or a family get-together \nEveryone’s welcome — come as you are and toast the holidays with us. Let’s make it a night to remember! \n  \nThe Menu – £15 per person \nChicken\, gammon & pigs in blankets / nut roast. \nSausage meat stuffing / Veggie stuffing. \nRoast potatoes\, honey roasted seasonal veg\, red cabbage and Yorkshire puddings. \nGravy dipping pot and cranberry sauce. \n  \nDessert selection (minimum two people) + £5 per person \nCranachan\, Canelé rum pudding\, Brownie (GF) + brandy cream. \n  \nBook for your whole group for £15 per person. \nWe will email to request dietary requirements and numbers for desserts. \nAn additional link will be sent to guests to pay for their desserts. \n  \n 
URL:https://thecratebosham.co.uk/whats-on/%f0%9f%8e%84christmas-party-night-%f0%9f%8e%b7with-roasty-sharing-platters-booking-essential/
CATEGORIES:Evening Food,Events,Live Music,Ticketed Event
ATTACH;FMTTYPE=image/png:https://thecratebosham.co.uk/wp-content/uploads/2025/10/roast-IG-sq.png
END:VEVENT
END:VCALENDAR