BEGIN:VCALENDAR
VERSION:2.0
PRODID:-//The Crate Bosham - ECPv6.15.20//NONSGML v1.0//EN
CALSCALE:GREGORIAN
METHOD:PUBLISH
X-ORIGINAL-URL:https://thecratebosham.co.uk
X-WR-CALDESC:Events for The Crate Bosham
REFRESH-INTERVAL;VALUE=DURATION:PT1H
X-Robots-Tag:noindex
X-PUBLISHED-TTL:PT1H
BEGIN:VTIMEZONE
TZID:Europe/London
BEGIN:DAYLIGHT
TZOFFSETFROM:+0000
TZOFFSETTO:+0100
TZNAME:BST
DTSTART:20250330T010000
END:DAYLIGHT
BEGIN:STANDARD
TZOFFSETFROM:+0100
TZOFFSETTO:+0000
TZNAME:GMT
DTSTART:20251026T010000
END:STANDARD
BEGIN:DAYLIGHT
TZOFFSETFROM:+0000
TZOFFSETTO:+0100
TZNAME:BST
DTSTART:20260329T010000
END:DAYLIGHT
BEGIN:STANDARD
TZOFFSETFROM:+0100
TZOFFSETTO:+0000
TZNAME:GMT
DTSTART:20261025T010000
END:STANDARD
BEGIN:DAYLIGHT
TZOFFSETFROM:+0000
TZOFFSETTO:+0100
TZNAME:BST
DTSTART:20270328T010000
END:DAYLIGHT
BEGIN:STANDARD
TZOFFSETFROM:+0100
TZOFFSETTO:+0000
TZNAME:GMT
DTSTART:20271031T010000
END:STANDARD
END:VTIMEZONE
BEGIN:VEVENT
DTSTART;TZID=Europe/London:20260207T160000
DTEND;TZID=Europe/London:20260207T193000
DTSTAMP:20260421T134724
CREATED:20260128T100450Z
LAST-MODIFIED:20260128T100537Z
UID:1461-1770480000-1770492600@thecratebosham.co.uk
SUMMARY:🍕Woody's wood-fired pizza van
DESCRIPTION:Woody’s Wood‑Fired Pizza are back at The Crate this February\, firing up their delicious pizzas 🍕 \n📆 Saturday 7 February 4 – 7.30pm \n📆 Saturday 28 February 4 – 7.30pm \n  \nPlease note\, The Crate bar is open until 7pm. \n🍴 Enjoy them to eat-in at The Crate or grab a takeaway. \n📞 Pre‑order easily via WhatsApp to skip the queue. \n@chichesterwoodyswoodfiredpizza
URL:https://thecratebosham.co.uk/whats-on/%f0%9f%8d%95woodys-wood-fired-pizza-van/
CATEGORIES:Evening Food
ATTACH;FMTTYPE=image/png:https://thecratebosham.co.uk/wp-content/uploads/2025/09/Woodys-IG-sq.png
END:VEVENT
END:VCALENDAR