BEGIN:VCALENDAR
VERSION:2.0
PRODID:-//The Crate Bosham - ECPv6.15.20//NONSGML v1.0//EN
CALSCALE:GREGORIAN
METHOD:PUBLISH
X-WR-CALNAME:The Crate Bosham
X-ORIGINAL-URL:https://thecratebosham.co.uk
X-WR-CALDESC:Events for The Crate Bosham
REFRESH-INTERVAL;VALUE=DURATION:PT1H
X-Robots-Tag:noindex
X-PUBLISHED-TTL:PT1H
BEGIN:VTIMEZONE
TZID:Europe/London
BEGIN:DAYLIGHT
TZOFFSETFROM:+0000
TZOFFSETTO:+0100
TZNAME:BST
DTSTART:20240331T010000
END:DAYLIGHT
BEGIN:STANDARD
TZOFFSETFROM:+0100
TZOFFSETTO:+0000
TZNAME:GMT
DTSTART:20241027T010000
END:STANDARD
BEGIN:DAYLIGHT
TZOFFSETFROM:+0000
TZOFFSETTO:+0100
TZNAME:BST
DTSTART:20250330T010000
END:DAYLIGHT
BEGIN:STANDARD
TZOFFSETFROM:+0100
TZOFFSETTO:+0000
TZNAME:GMT
DTSTART:20251026T010000
END:STANDARD
BEGIN:DAYLIGHT
TZOFFSETFROM:+0000
TZOFFSETTO:+0100
TZNAME:BST
DTSTART:20260329T010000
END:DAYLIGHT
BEGIN:STANDARD
TZOFFSETFROM:+0100
TZOFFSETTO:+0000
TZNAME:GMT
DTSTART:20261025T010000
END:STANDARD
BEGIN:DAYLIGHT
TZOFFSETFROM:+0000
TZOFFSETTO:+0100
TZNAME:BST
DTSTART:20270328T010000
END:DAYLIGHT
BEGIN:STANDARD
TZOFFSETFROM:+0100
TZOFFSETTO:+0000
TZNAME:GMT
DTSTART:20271031T010000
END:STANDARD
END:VTIMEZONE
BEGIN:VEVENT
DTSTART;TZID=Europe/London:20251227T170000
DTEND;TZID=Europe/London:20251227T203000
DTSTAMP:20260421T145624
CREATED:20251209T112406Z
LAST-MODIFIED:20251209T112406Z
UID:1426-1766854800-1766867400@thecratebosham.co.uk
SUMMARY:Fat Jack's BBQ Shack
DESCRIPTION:
URL:https://thecratebosham.co.uk/whats-on/fat-jacks-bbq-shack-15/
CATEGORIES:Evening Food,Events,Live Music
ATTACH;FMTTYPE=image/png:https://thecratebosham.co.uk/wp-content/uploads/2025/07/Fat-Jacks-IG-sq.png
END:VEVENT
BEGIN:VEVENT
DTSTART;TZID=Europe/London:20251228T160000
DTEND;TZID=Europe/London:20251228T180000
DTSTAMP:20260421T145624
CREATED:20251106T135648Z
LAST-MODIFIED:20251106T135648Z
UID:1394-1766937600-1766944800@thecratebosham.co.uk
SUMMARY:BIG CRATE QUIZ OF THE YEAR - Book online
DESCRIPTION:🌍 The Crate Bosham \n📆 Sunday 28 December \n⏰ 4 – 6pm \nJoin us for the Big Crate Quiz of the Year — a fun-filled night of trivia reflecting the highs\, lows\, and unforgettable moments of the past year! \n💸 Join the fun to win the pot. \nBring your brains\, brawn and creative flair. \n🦮 Family and dog friendly. \nBook your table for 50p per person online. \n£5 per person entry CASH ONLY ON THE NIGHT.
URL:https://thecratebosham.co.uk/whats-on/big-crate-quiz-of-the-year-book-online/
CATEGORIES:Evening Food,Events,Ticketed Event
ATTACH;FMTTYPE=image/png:https://thecratebosham.co.uk/wp-content/uploads/2024/10/Bos-Crate-Quiz-of-the-Year-thumbnail.png
END:VEVENT
BEGIN:VEVENT
DTSTART;TZID=Europe/London:20260124T190000
DTEND;TZID=Europe/London:20260124T213000
DTSTAMP:20260421T145624
CREATED:20251216T162027Z
LAST-MODIFIED:20251216T175029Z
UID:1427-1769281200-1769290200@thecratebosham.co.uk
SUMMARY:🎲 BINGO NIGHT!
DESCRIPTION:📅 Saturday 24 January \n⏰ 7:00 – 9:30pm (tables are reserved from 6pm) \n🍹 Happy Hour 5:00 – 7:00pm \n🍕 Woody’s Wood-Fired Pizza 4:00 – 7:30pm \n  \nGet ready for an evening of fun\, fortune\, and friendly competition as Bingo returns to The Crate Bosham! \n✨ Family & dog-friendly atmosphere – everyone’s welcome. \n🎲 Two exciting rounds of bingo played on the night. \n💷 Bingo cards available for £5 CASH ONLY each (maximum 2 cards per person per round). \n🏆 All entry money goes straight into the prize pot – the more players\, the bigger the winnings! \n📌 Reserve your spot for just 50p per person – book online to secure your place. \nAnd remember… you’ve got to be in it to win it!
URL:https://thecratebosham.co.uk/whats-on/%f0%9f%8e%b2-bingo-night/
CATEGORIES:Evening Food,Events,Ticketed Event
ATTACH;FMTTYPE=image/png:https://thecratebosham.co.uk/wp-content/uploads/2025/01/Bingo-Bos-thumbnail.png
END:VEVENT
BEGIN:VEVENT
DTSTART;TZID=Europe/London:20260207T160000
DTEND;TZID=Europe/London:20260207T193000
DTSTAMP:20260421T145624
CREATED:20260128T100450Z
LAST-MODIFIED:20260128T100537Z
UID:1461-1770480000-1770492600@thecratebosham.co.uk
SUMMARY:🍕Woody's wood-fired pizza van
DESCRIPTION:Woody’s Wood‑Fired Pizza are back at The Crate this February\, firing up their delicious pizzas 🍕 \n📆 Saturday 7 February 4 – 7.30pm \n📆 Saturday 28 February 4 – 7.30pm \n  \nPlease note\, The Crate bar is open until 7pm. \n🍴 Enjoy them to eat-in at The Crate or grab a takeaway. \n📞 Pre‑order easily via WhatsApp to skip the queue. \n@chichesterwoodyswoodfiredpizza
URL:https://thecratebosham.co.uk/whats-on/%f0%9f%8d%95woodys-wood-fired-pizza-van/
CATEGORIES:Evening Food
ATTACH;FMTTYPE=image/png:https://thecratebosham.co.uk/wp-content/uploads/2025/09/Woodys-IG-sq.png
END:VEVENT
BEGIN:VEVENT
DTSTART;TZID=Europe/London:20260228T170000
DTEND;TZID=Europe/London:20260228T193000
DTSTAMP:20260421T145624
CREATED:20260128T100704Z
LAST-MODIFIED:20260220T224248Z
UID:1462-1772298000-1772307000@thecratebosham.co.uk
SUMMARY:🍕Woody’s wood-fired pizza van
DESCRIPTION:Woody’s Wood‑Fired Pizza are back at The Crate this February\, firing up their delicious pizzas 🍕 \n🍴 Enjoy them to eat-in at The Crate or grab a takeaway. \n📞 Pre‑order easily via WhatsApp to skip the queue. \n@chichesterwoodyswoodfiredpizza
URL:https://thecratebosham.co.uk/whats-on/%f0%9f%8d%95woodys-wood-fired-pizza-van-2/
CATEGORIES:Evening Food
ATTACH;FMTTYPE=image/png:https://thecratebosham.co.uk/wp-content/uploads/2025/07/Woodys-IG-sq-Kerri.png
END:VEVENT
BEGIN:VEVENT
DTSTART;TZID=Europe/London:20260228T180000
DTEND;TZID=Europe/London:20260228T213000
DTSTAMP:20260421T145624
CREATED:20260128T090159Z
LAST-MODIFIED:20260220T224421Z
UID:1450-1772301600-1772314200@thecratebosham.co.uk
SUMMARY:🤓 QUIZ NIGHT
DESCRIPTION:📅 Saturday 28 February \n⏰ 7:00 – 9:30pm (tables are reserved from 6pm) \n🍹 Happy Hour 4:00 – 6:00pm \n🍕 Woody’s Wood-Fired Pizza 5:00 – 7:30pm \n  \nThink you’ve got what it takes? The Crate Quiz is like no other – a playful mix of brainpower and creative flair. With themed rounds spanning a wide range of topics\, everyone has an equally good (and hilariously bad) chance at glory. \n💷 £5 cash-only entry – your entry fee becomes the jackpot. \n🏆 One lucky team takes it all! \nMaximum team size: SIX people. If you are coming down with a larger group\, you will need to split into smaller sub-groups. \n  \n🎉 Expect a wholesome\, silly\, and unforgettable evening. \n🐾 Family-friendly and dog-friendly – bring your friends\, your partner\, the kids\, or even the pup. \n📌 Reserve your spot for just 50p per person – book online to secure your place. \nWe wish you the best of luck… and remember\, it’s not just about winning\, it’s about the laughs along the way. \nWe can’t wait to see you there!
URL:https://thecratebosham.co.uk/whats-on/%f0%9f%a4%93-quiz-night/
CATEGORIES:Evening Food,Events,Ticketed Event
ATTACH;FMTTYPE=image/png:https://thecratebosham.co.uk/wp-content/uploads/2024/12/Quiz-PIC-IG-sq-1.png
END:VEVENT
BEGIN:VEVENT
DTSTART;TZID=Europe/London:20260306T163000
DTEND;TZID=Europe/London:20260306T193000
DTSTAMP:20260421T145624
CREATED:20260225T222820Z
LAST-MODIFIED:20260225T222820Z
UID:1479-1772814600-1772825400@thecratebosham.co.uk
SUMMARY:🍕Woody’s wood-fired pizza van
DESCRIPTION:Woody’s Wood‑Fired Pizza are back at The Crate\, firing up their delicious pizzas 🍕 \n📆 Friday 6 March 4.30 – 7.30pm \n📆 Saturday 21 March 4.30 – 7.30pm \n  \n🍻 The Crate bar is open until 9pm. \n🍴 Enjoy them to eat-in at The Crate or grab a takeaway. \n📞 Pre‑order easily via WhatsApp to skip the queue. \n@chichesterwoodyswoodfiredpizza
URL:https://thecratebosham.co.uk/whats-on/%f0%9f%8d%95woodys-wood-fired-pizza-van-3/
CATEGORIES:Evening Food
ATTACH;FMTTYPE=image/png:https://thecratebosham.co.uk/wp-content/uploads/2025/09/Woodys-IG-sq.png
END:VEVENT
BEGIN:VEVENT
DTSTART;TZID=Europe/London:20260308T150000
DTEND;TZID=Europe/London:20260308T180000
DTSTAMP:20260421T145624
CREATED:20260225T181226Z
LAST-MODIFIED:20260226T141751Z
UID:1473-1772982000-1772992800@thecratebosham.co.uk
SUMMARY:🎶 VINYL JUKEBOX - SIP & SPIN
DESCRIPTION:SIP & SPIN ⚡️Bring your records. Share your sound. Join the community 🤝\n  \n🗓️ When: Sunday 8 March 3-6pm (PLUS FUTURE DATES: Sun 12 April\, Sun 10 May\, Sun 14 June) \n📍Where: The Crate Bosham \n🎟️ Admission: FREE! Just bring your vinyl and your appetite. \nAre you a dedicated music buff or a casual listener with a hidden gem in your collection? We’re teaming up with The Vinyl Tuck Shop (@the_vinyltuckshop) to bring you an afternoon dedicated to the art of the LP. \nThis isn’t just a playlist; it’s a living\, breathing jukebox powered by you. \n🎸 What to Expect: \nThe Guest DJ Slot: Line up four songs from your own collection for everyone to enjoy. \nDiscovery: A chance to swap stories with fellow music lovers and find your next favourite artist. \nLaid-Back Vibes: The perfect\, low-pressure backdrop for a catch-up with mates or a relaxed Sunday date. \nMeet the Fam: Get to know the Crate team\, our lovely regulars\, and the local legends from The Vinyl Tuck Shop. \n😋 Fuel for the Soul: \n🍴Sunday Roasts: Served from 2pm – 4pm (The ultimate companion to a good record). \n☕️🍰 Café & Drinks: Fresh brews and cafe favorites available until 5pm. \n🍺🍷The Bar: Staying open until 6pm for those final Sunday sundowners.
URL:https://thecratebosham.co.uk/whats-on/vinyl-jukebox-sip-spin/
CATEGORIES:Evening Food,Events,Live Music
ATTACH;FMTTYPE=image/png:https://thecratebosham.co.uk/wp-content/uploads/2026/02/Vinyl-Tuck-Shop-sq2.png
END:VEVENT
BEGIN:VEVENT
DTSTART;TZID=Europe/London:20260321T160000
DTEND;TZID=Europe/London:20260321T200000
DTSTAMP:20260421T145624
CREATED:20260319T110120Z
LAST-MODIFIED:20260319T110302Z
UID:1489-1774108800-1774123200@thecratebosham.co.uk
SUMMARY:Block Party Pizza Soft Launch @ The Crate Bosham
DESCRIPTION:Meet our new pizza partners\, Block Party Pizza\, serving up delicious Detroit-style deep base square pizza. \n@blockparty_pizza
URL:https://thecratebosham.co.uk/whats-on/block-party-pizza-soft-launch-the-crate-bosham/
CATEGORIES:Evening Food
ATTACH;FMTTYPE=image/png:https://thecratebosham.co.uk/wp-content/uploads/2026/03/Copy-of-Mascot-logo.png
END:VEVENT
END:VCALENDAR